BEGIN:VCALENDAR
VERSION:2.0
PRODID:-//hacksw/handcal//NONSGML v1.0//EN
BEGIN:VEVENT
SUMMARY:Serein Argentalet Aventure 2026
UID:ca008886-fb08-4a73-b441-d67e5bd06ea1
DTSTART:20260417T220000Z
DTEND:20260418T220000Z
LOCATION:Localisation   
CATEGORIES:Sportif
STATUS:
DESCRIPTION:<p>C’est aux portes du Morvan que <span
 style="color:#3498db;"><strong>Philippe</strong></span> <span
 style="color:#3498db;"><strong>HESSEL</strong></span> s’est lance
 sur le trail de Serein Argentalet Aventure a Montberthault (21) a
 proximite d'epoisse & de Semur en Auxois. </p>
 
 <p>Philippe a pris
 le depart du 16km/250mD+ (63 classes)</p>
 
 <p>Il termine en 1h35'20"
 et se classe 25e (<span style="color:#e74c3c;">1er</span> <span
 style="color:#e74c3c;">M5</span> <span
 style="color:#e74c3c;">H</span>/<span
 style="color:#e74c3c;">2</span>)</p>
 
 <p>Bravo a lui ! </p>
URL;VALUE=URI:https://www.acr-dijon.org/evenements/2026/04/18/serein-argentalet-aventure-2026-2443017
END:VEVENT
END:VCALENDAR
