BEGIN:VCALENDAR
VERSION:2.0
PRODID:-//hacksw/handcal//NONSGML v1.0//EN
BEGIN:VEVENT
SUMMARY:Trail des Combes 2026
UID:91ea1021-2412-4bfb-b4b8-fffb3a115d7e
DTSTART:20260418T220000Z
DTEND:20260419T220000Z
LOCATION:Localisation   
CATEGORIES:Sportif
STATUS:
DESCRIPTION:<p>Le mois d’avril a ete retenu par nos amis d’AC
 Chenove pour organiser cette nouvelle edition du trail des Combes et
 ce fut encore une fois un succes,  les courses etant toutes
 completes (ndlr: les editions precedentes avaient lieu en juin,  fin
 d'apres midi)</p>
 
 <p>Nous avions des adherents sur les 2 distances
 trail proposees.</p>
 
 <p>➡️ Trail du plateau 10km/240mD+ (280
 classes/303 inscrits)</p>
 
 <p><span
 style="color:#3498db;"><strong>Bertrand</strong></span> <span
 style="color:#3498db;"><strong>BULLE</strong></span>: 7e, termine en
 42'25" (<span style="color:#e74c3c;">2e</span> <span
 style="color:#e74c3c;">M2</span> <span
 style="color:#e74c3c;">H/17</span>)</p>
 
 <p><strong><span
 style="color:#9b59b6;">Delphine</span></strong> <strong><span
 style="color:#9b59b6;">VASSAUX</span></strong> : 123e, termine en
 1h03'51 (5e M3 F/12)</p>
 
 <p> </p>
 
 <p>➡️ Trail des combes
 21km/500mD+ (174 classes/197 inscrits)</p>
 
 <p><span
 style="color:#3498db;"><strong>Arnaud</strong></span> <span
 style="color:#3498db;"><strong>ROGEMONT</strong></span> : 24e,
 termine en 1h46'05" (10e SE H/48)</p>
 
 <p><span
 style="color:#3498db;"><strong>Massimo</strong></span> <span
 style="color:#3498db;"><strong>LAZZARI</strong></span> : 28e, termine
 en 1h48'05" (13e SE H/48)</p>
 
 <p>Bravo a tous
 ! </p>
 
 <p> </p>
 
 <p> </p>
URL;VALUE=URI:https://www.acr-dijon.org/evenements/2026/04/19/trail-des-combes-2026-2443021
END:VEVENT
END:VCALENDAR
